BEGIN:VCALENDAR
VERSION:2.0
PRODID:-//Eventin//Event Calendar//EN
CALSCALE:GREGORIAN
METHOD:PUBLISH
BEGIN:VEVENT
UID:53bda8b10ecfb908c119c2e94b1c3a26@www.vinyasa.earth
SUMMARY:Ankita&#8217\;s Table
DESCRIPTION:A seasonal\, mindful food experience at Vinyasa Earth\nAt Vinya
 sa Earth\, we gather not just to eat—but to remember.\nAnkita’s Table 
 is a hosted dinner rooted in the rhythms of Rajasthan—where food is seaso
 nal\, stories are shared\, and every meal carries memory.\nAnkita\, shaped 
 by a childhood close to the land\, brings to the table a way of cooking tha
 t is intuitive\, grounded\, and deeply nourishing. Through this experience\
 , she invites you into a slower relationship with food—one that goes beyo
 nd taste and into understanding.\n \n\nWhat This Experience Holds\n\n\nA 
 fixed\, curated Rajasthani menu inspired by the season\nDishes that are t
 raditional at heart\, sometimes reimagined in subtle\, contemporary ways\nI
 ngredients sourced locally\, with some coming directly from the Vinyasa fa
 rm\nA hosted\, intimate dinner with a maximum of 16 people\n\nThis is not
  a restaurant.There is no ordering\, no rushing.\nYou arrive\, you are rece
 ived\, and the evening unfolds.\n\nThe Flow of the Evening\n\n\nArrivalYou 
 are welcomed into the space—set differently each time\, depending on the 
 theme.\nSeasonal Welcome DrinkA simple\, local preparation that reflects th
 e time of year.\nAnkita’s Opening CircleA gentle beginning—stories of t
 he menu\, the season\, and the ingredients.\nAn Interactive MomentA small a
 ctivity—perhaps touching the ingredients\, participating in preparation\,
  or a short farm walk.\nThe MealServed with intention.Conversations move be
 tween memories\, food practices\, and lived experiences—guided by Ankita\
 , but allowed to flow naturally.\nClosing CircleA quiet pause to gather\, r
 eflect\, and complete the experience.\n\n\nThe Intention\nTo create a space
  where food becomes:\n\nMindful — eaten with presence\nSeasonal — ali
 gned with the body and climate\nLocal — rooted in the land around us\nNo
 stalgic — evoking what we already know\, but may have forgotten\n\n\nDet
 ails\n\nLocation: Vinyasa Earth\, Jaipur\nFormat: Hosted dinner | Limited
  to 16 people\nDuration: ~2–3 hours\nFood: Pure vegetarian\, Rajasthani
  cuisine\nContribution: ₹1000 + taxes\n\n\nWho Is This For\n\nThose seek
 ing a slow\, intentional evening\nThose curious about food beyond consump
 tion\nThose who value community\, culture\, and conversation\n\n \n\n\nYo
 u are Invited\nEach edition of Ankita’s Table changes—with the season\,
  the harvest\, and the people gathered.\nYou may not remember every dish.Bu
 t you will remember how it felt.
LOCATION:Vinyasa Earth
DTSTAMP:20260426T010646Z
DTSTART:20260606T200000Z
DTEND:20260607T010000Z
END:VEVENT
END:VCALENDAR
